BEGIN:VCALENDAR
VERSION:2.0
PRODID:-//Erdeiprogramok.hu - Élményekben gazdag magyar erdők - ECPv4.6.10.1//NONSGML v1.0//EN
CALSCALE:GREGORIAN
METHOD:PUBLISH
X-WR-CALNAME:Erdeiprogramok.hu - Élményekben gazdag magyar erdők
X-ORIGINAL-URL:https://erdeiprogramok.hu
X-WR-CALDESC:Events for Erdeiprogramok.hu - Élményekben gazdag magyar erdők
BEGIN:VEVENT
DTSTART;VALUE=DATE:20180728
DTEND;VALUE=DATE:20180729
DTSTAMP:20260420T125159
CREATED:20180712T072509Z
LAST-MODIFIED:20180712T072509Z
UID:16951-1532736000-1532822399@erdeiprogramok.hu
SUMMARY:Zenélő erdei vasút Szilvásváradon
DESCRIPTION:A Marching Jazz Band zenéje töri meg a szilvásváradi Szalajka-völgy csendjét\, így a szuper hangulat garantált. \nA nosztalgiavonatra előregisztráció szükséges! \nJegyár: 5000 Ft/fő \nTetszik!.sfsibeforpstwpr .sfsiplus_norm_row.sfsi_plus_wDivothr .sfsi_plus_wicons\, .sfsiaftrpstwpr .sfsiplus_norm_row.sfsi_plus_wDivothr .sfsi_plus_wicons{width: 40px !important;height: 40px !important; margin-left: 2px !important;}
URL:https://erdeiprogramok.hu/esemenyek/zenelo-erdei-vasut-szilvasvaradon/
LOCATION:Szalajka u. 8.\, Szilvásvárad\, 3348\, Magyarország
GEO:48.0936499;20.394459
X-APPLE-STRUCTURED-LOCATION;VALUE=URI;X-ADDRESS=Szalajka u. 8. Szilvásvárad 3348 Magyarország;X-APPLE-RADIUS=500;X-TITLE=Szalajka u. 8.:geo:20.394459,48.0936499
CATEGORIES:Erdei kisvasút,Kiemelt esemény
ATTACH;FMTTYPE=image/jpeg:https://erdeiprogramok.hu/wp-content/uploads/2018/07/36648259_1746089192144168_3393032161069105152_n.jpg
ORGANIZER;CN="Egererd%C5%91%20Zrt.":MAILTO:egererdo@egererdo.hu
END:VEVENT
END:VCALENDAR