BEGIN:VCALENDAR
VERSION:2.0
PRODID:-//Erdeiprogramok.hu - Élményekben gazdag magyar erdők - ECPv4.6.10.1//NONSGML v1.0//EN
CALSCALE:GREGORIAN
METHOD:PUBLISH
X-WR-CALNAME:Erdeiprogramok.hu - Élményekben gazdag magyar erdők
X-ORIGINAL-URL:https://erdeiprogramok.hu
X-WR-CALDESC:Events for Erdeiprogramok.hu - Élményekben gazdag magyar erdők
BEGIN:VEVENT
DTSTART;VALUE=DATE:20170906
DTEND;VALUE=DATE:20170907
DTSTAMP:20260419T124549
CREATED:20170718T133732Z
LAST-MODIFIED:20170904T091830Z
UID:10797-1504656000-1504742399@erdeiprogramok.hu
SUMMARY:Mikrovilág tematikus nap Felsőtárkányban
DESCRIPTION:Rövid előadás a mikroszkópok történetéről\, részeiről\, használatáról; mikroszkópizálás a szabadban: mintagyűjtés az erdei iskola környékén (virágpor\, falevél\, elhullott rovarok\, vízmintavétel a tóból)\, levélnyúzat készítés elsajátítása; begyűjtött minták\, nyúzatok\, rovarok vizsgálata mikroszkóp alatt. \nIdőpont: 2017. szeptember 6\, szerda\, 10:00\nTalálkozás: Felsőtárkány\, Nyugati Kapu Látogatóközpont \nProgramvezető: Szűcs Erzsébet\, tel.: 30/884-9251\, e-mail: szucse@bnpi.hu \nIngyenes! \n \nTetszik!.sfsibeforpstwpr .sfsiplus_norm_row.sfsi_plus_wDivothr .sfsi_plus_wicons\, .sfsiaftrpstwpr .sfsiplus_norm_row.sfsi_plus_wDivothr .sfsi_plus_wicons{width: 40px !important;height: 40px !important; margin-left: 2px !important;}
URL:https://erdeiprogramok.hu/esemenyek/mikrovilag-tematikus-nap-felsotarkanyban/
LOCATION: Ifjúság u. 34/1\, Felsőtárkány\, Magyarország
GEO:47.9760599;20.434107
X-APPLE-STRUCTURED-LOCATION;VALUE=URI;X-ADDRESS=Ifjúság u. 34/1 Felsőtárkány Magyarország;X-APPLE-RADIUS=500;X-TITLE=Ifjúság u. 34/1:geo:20.434107,47.9760599
CATEGORIES:Erdő kincsei,Kiemelt esemény
ATTACH;FMTTYPE=image/jpeg:https://erdeiprogramok.hu/wp-content/uploads/2017/07/Arachnopeziza-parafízisekkel-1.jpg
ORGANIZER;CN="B%C3%BCkki%20Nemzeti%20Park%20Igazgat%C3%B3s%C3%A1g":MAILTO:titkarsag@bnpi.hu
END:VEVENT
END:VCALENDAR