BEGIN:VCALENDAR
VERSION:2.0
PRODID:-//Erdeiprogramok.hu - Élményekben gazdag magyar erdők - ECPv4.6.10.1//NONSGML v1.0//EN
CALSCALE:GREGORIAN
METHOD:PUBLISH
X-WR-CALNAME:Erdeiprogramok.hu - Élményekben gazdag magyar erdők
X-ORIGINAL-URL:https://erdeiprogramok.hu
X-WR-CALDESC:Events for Erdeiprogramok.hu - Élményekben gazdag magyar erdők
BEGIN:VEVENT
DTSTART;VALUE=DATE:20161112
DTEND;VALUE=DATE:20161113
DTSTAMP:20260421T080446
CREATED:20161106T123150Z
LAST-MODIFIED:20161126T095037Z
UID:6024-1478908800-1478995199@erdeiprogramok.hu
SUMMARY:Madárgyűrűzés és madárkalács-készítés Felsőtárkányban
DESCRIPTION:Tudnivalók a téli madáretetésről és arról\, hogyan tegyük a madarak számára kedvelté kertünket a téli időszakban. A Bükki Nmezeti Park szeretettel vár minden érdeklődőt. \nIdőpont: 2016.  november 12.\, szombat\, 10:00 – 13:00\nHelyszín: Felsőtárkány\, Bábakalács Erdei Iskola \nProgramvezető:\nNovák Richárd\ntel.: 30/277-4970\ne-mail: novakr@bnpi.hu \n(Fotó: Gribek Tímea) \nTetszik!.sfsibeforpstwpr .sfsiplus_norm_row.sfsi_plus_wDivothr .sfsi_plus_wicons\, .sfsiaftrpstwpr .sfsiplus_norm_row.sfsi_plus_wDivothr .sfsi_plus_wicons{width: 40px !important;height: 40px !important; margin-left: 2px !important;}
URL:https://erdeiprogramok.hu/esemenyek/madargyuruzes-es-madarkalacs-keszites-felsotarkanyban/
LOCATION:Ifjúság út 34.\, Felsőtárkány\, 3324\, Magyarország
GEO:47.9813462;20.4344832
X-APPLE-STRUCTURED-LOCATION;VALUE=URI;X-ADDRESS=Ifjúság út 34. Felsőtárkány 3324 Magyarország;X-APPLE-RADIUS=500;X-TITLE=Ifjúság út 34.:geo:20.4344832,47.9813462
CATEGORIES:Erdei iskola
ATTACH;FMTTYPE=image/jpeg:https://erdeiprogramok.hu/wp-content/uploads/2016/11/DSC_0170s.jpg
ORGANIZER;CN="B%C3%BCkki%20Nemzeti%20Park%20Igazgat%C3%B3s%C3%A1g":MAILTO:titkarsag@bnpi.hu
END:VEVENT
END:VCALENDAR