BEGIN:VCALENDAR
VERSION:2.0
PRODID:-//Erdeiprogramok.hu - Élményekben gazdag magyar erdők - ECPv4.6.10.1//NONSGML v1.0//EN
CALSCALE:GREGORIAN
METHOD:PUBLISH
X-WR-CALNAME:Erdeiprogramok.hu - Élményekben gazdag magyar erdők
X-ORIGINAL-URL:https://erdeiprogramok.hu
X-WR-CALDESC:Events for Erdeiprogramok.hu - Élményekben gazdag magyar erdők
BEGIN:VEVENT
DTSTART;VALUE=DATE:20170307
DTEND;VALUE=DATE:20170308
DTSTAMP:20260422T090908
CREATED:20161231T132023Z
LAST-MODIFIED:20170306T160028Z
UID:6867-1488844800-1488931199@erdeiprogramok.hu
SUMMARY:DDNP Klub: Kalandozások az Őrség legszebb tájain
DESCRIPTION:DDNP Klub márciusban Pallos-Rózsa Anita “Az ország nyugati kapuja – kalandozások az Őrség legszebb tájain” című diavetítéses előadására várják az érdeklődőket. \nHelyszín: Pécs\, Tettye Oktatási Központ\nIdőpont: 2017. március 7. 17.00 \nA részvétel ingyenes! \nRészletek: dunadrava@ddnp.kvvm.hu \n \nTetszik!.sfsibeforpstwpr .sfsiplus_norm_row.sfsi_plus_wDivothr .sfsi_plus_wicons\, .sfsiaftrpstwpr .sfsiplus_norm_row.sfsi_plus_wDivothr .sfsi_plus_wicons{width: 40px !important;height: 40px !important; margin-left: 2px !important;}
URL:https://erdeiprogramok.hu/esemenyek/ddnp-klub-kalandozasok-az-orseg-legszebb-tajain/
LOCATION:Pécs\, Magyarország
GEO:46.0727345;18.232266
CATEGORIES:Erdő kincsei,Kiemelt esemény
ATTACH;FMTTYPE=image/jpeg:https://erdeiprogramok.hu/wp-content/uploads/2016/12/bg_image1.jpg
ORGANIZER;CN="Duna-Dr%C3%A1va%20Nemzeti%20Park%20Igazgat%C3%B3s%C3%A1g":MAILTO:dunadrava@ddnp.kvvm.hu 
END:VEVENT
END:VCALENDAR