BEGIN:VCALENDAR
VERSION:2.0
PRODID:-//Erdeiprogramok.hu - Élményekben gazdag magyar erdők - ECPv4.6.10.1//NONSGML v1.0//EN
CALSCALE:GREGORIAN
METHOD:PUBLISH
X-WR-CALNAME:Erdeiprogramok.hu - Élményekben gazdag magyar erdők
X-ORIGINAL-URL:https://erdeiprogramok.hu
X-WR-CALDESC:Events for Erdeiprogramok.hu - Élményekben gazdag magyar erdők
BEGIN:VEVENT
DTSTART;VALUE=DATE:20171125
DTEND;VALUE=DATE:20171126
DTSTAMP:20260422T090743
CREATED:20171121T075731Z
LAST-MODIFIED:20171121T075731Z
UID:13165-1511568000-1511654399@erdeiprogramok.hu
SUMMARY:Adventi készülődés a Pusztai Állatparkban
DESCRIPTION:Készüljünk együtt az adventi időszakra! Kicsik és nagyok közösen készíthetik el a család adventi koszorúját\, melyhez maguk márthatják a gyertyákat. Továbbá lehetőség lesz még csuhéangyal készítésére\,valamint forró teák kortyolgatására. \nIdőpont: 2017. november 25. 10.00-16.00\nHelyszín: Hortobágy\, Tornyi domb- Pusztai Állatpark \n \nTetszik!.sfsibeforpstwpr .sfsiplus_norm_row.sfsi_plus_wDivothr .sfsi_plus_wicons\, .sfsiaftrpstwpr .sfsiplus_norm_row.sfsi_plus_wDivothr .sfsi_plus_wicons{width: 40px !important;height: 40px !important; margin-left: 2px !important;}
URL:https://erdeiprogramok.hu/esemenyek/adventi-keszulodes-a-pusztai-allatparkban/
LOCATION:Hortobágy\, Magyarország
GEO:47.5868751;21.1560332
CATEGORIES:Jeles napok
ATTACH;FMTTYPE=image/jpeg:https://erdeiprogramok.hu/wp-content/uploads/2017/11/karacsony_01.jpg
ORGANIZER;CN="Hortob%C3%A1gyi%20Nemzeti%20Park%20Igazgat%C3%B3s%C3%A1g":MAILTO:hnp@hnp.hu
END:VEVENT
END:VCALENDAR